BEGIN:VCALENDAR
VERSION:2.0
PRODID:-//wp-events-plugin.com//7.2.3.1//EN
TZID:Europe/Berlin
X-WR-TIMEZONE:Europe/Berlin
BEGIN:VEVENT
UID:695@md-linksdrehend.org
DTSTART;TZID=Europe/Berlin:20260424T190000
DTEND;TZID=Europe/Berlin:20260424T210000
DTSTAMP:20260420T190232Z
URL:https://md-linksdrehend.org/events/veranstaltung-zum-1-mai/
SUMMARY:Veranstaltung zum 1. Mai
DESCRIPTION:--- Freitag\, 24.04.2026 | 19 Uhr | Stadtteilladen\, Maxim-Gork
 i-Straße 40\, kostenlos ---\n\nWir wollen nicht nur am 01. Mai auf die St
 raße gehen und uns gewerkschaftlich an unseren Arbeitsplätzen organisier
 en\, sondern auch aktuelle politische Debatten führen.\n\nAm kommenden Fr
 eitag (dem 24.04.26) wird es dazu als Input einen kurzen Rundumschlag zu a
 ktuellen globalen\, wie regionalen Entwicklungen geben – von den jüngst
 en Kriegen und den damit verbundenen Militarisierungstendenzen\, über die
  wachsenden sozialen Ungleichheiten bis hin zur politischen Rechtsentwickl
 ung. Und nicht zuletzt wollen wir dabei auch nach emanzipatorischen Altern
 ativen Ausschau halten. Am Ende können wir dann entscheiden\, welche Aspe
 kte aus diesem Ensemble von Problemstellungen wir uns beim nächsten Mal n
 äher anschauen wollen.\n\nDie Veranstaltung steht allen solidarischen Kol
 leg:innen offen und es ist kein Vorwissen notwendig.
ATTACH;FMTTYPE=image/jpeg:https://md-linksdrehend.org/wp-content/uploads/2
 026/04/2026-04-24-VorbMai.avif
CATEGORIES:Offenes Treffen,Vortrag,Workshop
LOCATION:Stadtteilladen Mitmischen\, Maxim-Gorki-Straße 40\, Magdeburg\, S
 achsen-Anhalt\, 39108\, Deutschland
GEO:52.130984;11.613114
X-APPLE-STRUCTURED-LOCATION;VALUE=URI;X-ADDRESS=Maxim-Gorki-Straße 40\, Ma
 gdeburg\, Sachsen-Anhalt\, 39108\, Deutschland;X-APPLE-RADIUS=100;X-TITLE=
 Stadtteilladen Mitmischen:geo:52.130984,11.613114
END:VEVENT
BEGIN:VTIMEZONE
TZID:Europe/Berlin
X-LIC-LOCATION:Europe/Berlin
BEGIN:DAYLIGHT
DTSTART:20260329T030000
TZOFFSETFROM:+0100
TZOFFSETTO:+0200
TZNAME:CEST
END:DAYLIGHT
END:VTIMEZONE
END:VCALENDAR