BEGIN:VCALENDAR
VERSION:2.0
PRODID:-//wp-events-plugin.com//7.2.3.1//EN
TZID:Europe/Berlin
X-WR-TIMEZONE:Europe/Berlin
BEGIN:VEVENT
UID:698@md-linksdrehend.org
DTSTART;TZID=Europe/Berlin:20260510T170000
DTEND;TZID=Europe/Berlin:20260510T200000
DTSTAMP:20260421T134130Z
URL:https://md-linksdrehend.org/events/vera-bianchi-der-syndikalistische-f
 rauenbund/
SUMMARY:Vera Bianchi: Der Syndikalistische Frauenbund.
DESCRIPTION:1920 gründeten Mitglieder der anarchosyndikalistischen Gewerks
 chaft FAUD eine Frauengruppe: den Syndikalistischen Frauenbund . Die Grupp
 e war nach heutigen Maßstäben eine anarchafeministische Gruppe\, nannte 
 sich jedoch nicht feministisch\, da dies zu Beginn des 20. Jahrhunderts nu
 r mit der bürgerlichen Frauenbewegung und dem Kampf für das Frauenwahlre
 cht konnotiert war – also nichts\, wofür Anarchosyndikalistinnen kämpf
 ten.\n\nVera Bianchi ist Historikerin und schreibt ihre Doktorarbeit über
  den Syndikalistischen Frauenbund in der Weimarer Republik und die Mujeres
  Libres (Freie Frauen) im Spanischen Bürgerkrieg.\n\nVollständiger Infor
 mationstext unter: https://magdeburg.fau.org/vera-bianchi-der-syndikalisti
 sche-frauenbund/\n\n 
ATTACH;FMTTYPE=image/jpeg:https://md-linksdrehend.org/wp-content/uploads/2
 026/04/2026-05-10-FAU.avif
CATEGORIES:Vortrag
LOCATION:Stadtteilladen Mitmischen\, Maxim-Gorki-Straße 40\, Magdeburg\, S
 achsen-Anhalt\, 39108\, Deutschland
GEO:52.130984;11.613114
X-APPLE-STRUCTURED-LOCATION;VALUE=URI;X-ADDRESS=Maxim-Gorki-Straße 40\, Ma
 gdeburg\, Sachsen-Anhalt\, 39108\, Deutschland;X-APPLE-RADIUS=100;X-TITLE=
 Stadtteilladen Mitmischen:geo:52.130984,11.613114
END:VEVENT
BEGIN:VTIMEZONE
TZID:Europe/Berlin
X-LIC-LOCATION:Europe/Berlin
BEGIN:DAYLIGHT
DTSTART:20260329T030000
TZOFFSETFROM:+0100
TZOFFSETTO:+0200
TZNAME:CEST
END:DAYLIGHT
END:VTIMEZONE
END:VCALENDAR