BEGIN:VCALENDAR
VERSION:2.0
PRODID:-//wp-events-plugin.com//7.2.3.1//EN
TZID:Europe/Berlin
X-WR-TIMEZONE:Europe/Berlin
BEGIN:VEVENT
UID:549@md-linksdrehend.org
DTSTART;TZID=Europe/Berlin:20260131T130000
DTEND;TZID=Europe/Berlin:20260131T170000
DTSTAMP:20260128T140245Z
URL:https://md-linksdrehend.org/events/solidaritaetsdemonstration-mit-roja
 va/
SUMMARY:Solidaritätsdemonstration mit Rojava
DESCRIPTION:Wann? 31.01.2026 13:00-17:00 Uhr\n\nWo? Start am Bahnhof - Absc
 hluss am Alten Markt\n\nOrganisiert von Civaka Kurd Magdeburg
CATEGORIES:Demo, Kundgebung
LOCATION:Magdeburg Hauptbahnhof\, Magdeburg Hauptbahnhof\, Magdeburg\, Sach
 sen-Anhalt\, 39104\, Deutschland
GEO:52.130517;11.626719
X-APPLE-STRUCTURED-LOCATION;VALUE=URI;X-ADDRESS=Magdeburg Hauptbahnhof\, Ma
 gdeburg\, Sachsen-Anhalt\, 39104\, Deutschland;X-APPLE-RADIUS=100;X-TITLE=
 Magdeburg Hauptbahnhof:geo:52.130517,11.626719
END:VEVENT
BEGIN:VTIMEZONE
TZID:Europe/Berlin
X-LIC-LOCATION:Europe/Berlin
BEGIN:STANDARD
DTSTART:20251026T020000
TZOFFSETFROM:+0200
TZOFFSETTO:+0100
TZNAME:CET
END:STANDARD
END:VTIMEZONE
END:VCALENDAR