BEGIN:VCALENDAR
VERSION:2.0
PRODID:-//wp-events-plugin.com//7.2.3.1//EN
TZID:Europe/Berlin
X-WR-TIMEZONE:Europe/Berlin
BEGIN:VEVENT
UID:713@md-linksdrehend.org
DTSTART;TZID=Europe/Berlin:20260521T180000
DTEND;TZID=Europe/Berlin:20260521T220000
DTSTAMP:20260425T173756Z
URL:https://md-linksdrehend.org/events/selbsthilfegruppe-trans-und-sichtba
 r-in-sachsen-anhalt/
SUMMARY:Selbsthilfegruppe* trans und sichtbar in Sachsen-Anhalt
DESCRIPTION:Du suchst einen geschützten Raum für Austausch rund um geschl
 echtliche Vielfalt? Einen Ort\, an dem Erfahrungen geteilt\, Fragen gestel
 lt und Kontakte geknüpft werden können – ohne Druck und ohne Bewertung
 ?\n\nMit „trans und sichtbar in Sachsen-Anhalt 2026“ entsteht eine mod
 erierte Selbstannahme- und Austauschgruppe für trans\, nicht-binäre\, in
 ter\, agender und questioning Personen sowie deren Eltern und Angehörige.
  Ein Angebot für Menschen\, die sich mit Themen wie Geschlechtsdysphorie\
 , Geschlechtsinkongruenz oder geschlechtlicher Identität beschäftigen 
 – ebenso wie für Angehörige\, die begleiten und unterstützen möchten
 .\n\nGerade in Sachsen-Anhalt ist der Zugang zu medizinischer und psycholo
 gischer Begleitung für viele Menschen mit Erfahrungen rund um geschlechtl
 iche Vielfalt nicht flächendeckend gesichert. Umso wichtiger sind Räume\
 , in denen Austausch\, Vernetzung und gegenseitige Unterstützung möglich
  sind.\n\nDie Gruppe bietet einen respektvollen Rahmen\, in dem unterschie
 dliche Perspektiven Platz haben und Erfahrungen offen geteilt werden könn
 en. Teilnahme ist freiwillig\, kostenfrei und vertraulich.\n\nDas Angebot 
 versteht sich als Raum für Austausch und Orientierung – keine Therapie 
 und keine Diagnostik.\n\nTermine 2026\n31.03.2026 (Trans Day of Visibility
 )\n16.04.2026\n21.05.2026\n18.06.2026\n16.07.2026\n20.08.2026\n17.09.2026\
 n15.10.2026\n19.11.2026 (Trans Awareness Week)\n17.12.2026\n\njeweils 18:0
 0 – 20:00 Uhr\n\nBUNT (Büro und Treffpunkt)\nBreiter Weg 120 A\n39104 M
 agdeburg
ATTACH;FMTTYPE=image/jpeg:https://md-linksdrehend.org/wp-content/uploads/2
 026/04/2026-05-Austausch.avif
CATEGORIES:Offenes Treffen
LOCATION:BUNT – Büro und Treffpunkt – pridehub Sachsen-Anhalt\,  Breit
 er Weg 120 A\, Magdeburg\, Sachsen-Anhalt\, 39104\, Deutschland
GEO:52.134462;11.637806
X-APPLE-STRUCTURED-LOCATION;VALUE=URI;X-ADDRESS= Breiter Weg 120 A\, Magdeb
 urg\, Sachsen-Anhalt\, 39104\, Deutschland;X-APPLE-RADIUS=100;X-TITLE=BUNT
  – Büro und Treffpunkt – pridehub Sachsen-Anhalt:geo:52.134462,11.637
 806
END:VEVENT
BEGIN:VTIMEZONE
TZID:Europe/Berlin
X-LIC-LOCATION:Europe/Berlin
BEGIN:DAYLIGHT
DTSTART:20260329T030000
TZOFFSETFROM:+0100
TZOFFSETTO:+0200
TZNAME:CEST
END:DAYLIGHT
END:VTIMEZONE
END:VCALENDAR