BEGIN:VCALENDAR
VERSION:2.0
PRODID:-//wp-events-plugin.com//7.2.3.1//EN
TZID:Europe/Berlin
X-WR-TIMEZONE:Europe/Berlin
BEGIN:VEVENT
UID:697@md-linksdrehend.org
DTSTART;TZID=Europe/Berlin:20260508T100000
DTEND;TZID=Europe/Berlin:20260508T140000
DTSTAMP:20260421T125315Z
URL:https://md-linksdrehend.org/events/schulstreik-gegen-wehrpflicht/
SUMMARY:Schulstreik gegen Wehrpflicht
DESCRIPTION:https://schulstreikgegenwehrpflicht.com/\n\nhttps://www.instagr
 am.com/schulstreik.magdeburg/
ATTACH;FMTTYPE=image/jpeg:https://md-linksdrehend.org/wp-content/uploads/2
 026/04/2026-05-08-schulstreik.avif
CATEGORIES:Demo, Kundgebung
LOCATION:Magdeburg Hauptbahnhof\, Magdeburg Hauptbahnhof\, Magdeburg\, Sach
 sen-Anhalt\, 39104\, Deutschland
GEO:52.130517;11.626719
X-APPLE-STRUCTURED-LOCATION;VALUE=URI;X-ADDRESS=Magdeburg Hauptbahnhof\, Ma
 gdeburg\, Sachsen-Anhalt\, 39104\, Deutschland;X-APPLE-RADIUS=100;X-TITLE=
 Magdeburg Hauptbahnhof:geo:52.130517,11.626719
END:VEVENT
BEGIN:VTIMEZONE
TZID:Europe/Berlin
X-LIC-LOCATION:Europe/Berlin
BEGIN:DAYLIGHT
DTSTART:20260329T030000
TZOFFSETFROM:+0100
TZOFFSETTO:+0200
TZNAME:CEST
END:DAYLIGHT
END:VTIMEZONE
END:VCALENDAR