BEGIN:VCALENDAR
VERSION:2.0
PRODID:-//wp-events-plugin.com//7.2.3.1//EN
TZID:Europe/Berlin
X-WR-TIMEZONE:Europe/Berlin
BEGIN:VEVENT
UID:709@md-linksdrehend.org
DTSTART;TZID=Europe/Berlin:20260426T193000
DTEND;TZID=Europe/Berlin:20260426T220000
DTSTAMP:20260423T083706Z
URL:https://md-linksdrehend.org/events/queerfilmnacht-love-me-tender/
SUMMARY:Queerfilmnacht: Love me tender
DESCRIPTION:QUEERFILMNACHT Magdeburg im Moritzhof!\n\nAm Sonntag\, den 26. 
 April 2026\, laden wir euch herzlich zur nächsten QUEERFILMNACHT Magdebur
 g ein.\n\nBeginn: 19:30 Uhr\nMoritzhof Magdeburg
ATTACH;FMTTYPE=image/jpeg:https://md-linksdrehend.org/wp-content/uploads/2
 026/04/2026-04-loveme.avif
CATEGORIES:Film, Theater
LOCATION:Moritzhof\, Moritzplatz 1\, Magdeburg\, Sachsen-Anhalt\, 39124\, D
 eutschland
GEO:52.155908;11.632487
X-APPLE-STRUCTURED-LOCATION;VALUE=URI;X-ADDRESS=Moritzplatz 1\, Magdeburg\,
  Sachsen-Anhalt\, 39124\, Deutschland;X-APPLE-RADIUS=100;X-TITLE=Moritzhof
 :geo:52.155908,11.632487
END:VEVENT
BEGIN:VTIMEZONE
TZID:Europe/Berlin
X-LIC-LOCATION:Europe/Berlin
BEGIN:DAYLIGHT
DTSTART:20260329T030000
TZOFFSETFROM:+0100
TZOFFSETTO:+0200
TZNAME:CEST
END:DAYLIGHT
END:VTIMEZONE
END:VCALENDAR