BEGIN:VCALENDAR
VERSION:2.0
PRODID:-//wp-events-plugin.com//7.2.3.1//EN
TZID:Europe/Berlin
X-WR-TIMEZONE:Europe/Berlin
BEGIN:VEVENT
UID:685@md-linksdrehend.org
DTSTART;TZID=Europe/Berlin:20260411T080000
DTEND;TZID=Europe/Berlin:20260411T080000
DTSTAMP:20260331T075347Z
URL:https://md-linksdrehend.org/events/protest-gegen-den-afd-landesparteit
 ag/
SUMMARY:Protest gegen den AfD-Landesparteitag
DESCRIPTION:Unser Aufruf zur unfreundlichen Begrüßung.\n\nDIe Hyparschale
  ist ein Ort\, an dem Kunst und Kultur zusammengehören. Seit zwei Jahren 
 ist sie wieder ein lebendiger Raum\, in dem kulturelles Leben und künstle
 rischer Ausdruck im Mittelpunkt stehen.\n\nDass ausgerechnet die AfD diese
 n Ort für ihren Landesparteitag gewählt hat\, ist für uns nicht hinnehm
 bar. Eine Partei\, die Kunst und Kultur einschränken will und ihnen vorsc
 hreiben möchte\, was gesagt und gezeigt werden darf\, steht im Widerspruc
 h zu dem\, wofür die Hyparschale steht.\n\nDeshalb setzen wir als Bündni
 s ein klares Zeichen: für Kunst- und Kulturfreiheit\, für Vielfalt und f
 ür ein buntes Sachsen-Anhalt.\n\n&nbsp\;
CATEGORIES:Demo, Kundgebung
LOCATION:Hyparschale\, Kleiner Stadtmarsch 7\, Magdeburg\, Sachsen-Anhalt\,
  39114\, Deutschland
GEO:52.12039;11.639395
X-APPLE-STRUCTURED-LOCATION;VALUE=URI;X-ADDRESS=Kleiner Stadtmarsch 7\, Mag
 deburg\, Sachsen-Anhalt\, 39114\, Deutschland;X-APPLE-RADIUS=100;X-TITLE=H
 yparschale:geo:52.12039,11.639395
END:VEVENT
BEGIN:VTIMEZONE
TZID:Europe/Berlin
X-LIC-LOCATION:Europe/Berlin
BEGIN:DAYLIGHT
DTSTART:20260329T030000
TZOFFSETFROM:+0100
TZOFFSETTO:+0200
TZNAME:CEST
END:DAYLIGHT
END:VTIMEZONE
END:VCALENDAR