BEGIN:VCALENDAR
VERSION:2.0
PRODID:-//wp-events-plugin.com//7.2.3.1//EN
TZID:Europe/Berlin
X-WR-TIMEZONE:Europe/Berlin
BEGIN:VEVENT
UID:686@md-linksdrehend.org
DTSTART;TZID=Europe/Berlin:20260407T190000
DTEND;TZID=Europe/Berlin:20260407T190000
DTSTAMP:20260401T163207Z
URL:https://md-linksdrehend.org/events/offenes-treffen-seebruecke-md/
SUMMARY:Offenes Treffen Seebrücke MD
DESCRIPTION:Offenes Treffen der Seebrücke Magdeburg am Dienstag\, 7. April
  um 19 Uhr im in:takt.\n\nWer wir sind\nDie Seebrücke Magdeburg ist eine 
 lokal organisierte Gruppe der überregionalen Seebrücke. Wir setzen uns i
 n Magdeburg und Sachsen-Anhalt für eine solidarische Asyl- und Migrations
 politik ein. Antirassismus ist Grundlage unserer Arbeit.\n\nWas wir tun\nW
 ir organisieren politische und bildende Aktivitäten\, arbeiten überparte
 ilich\, basisdemokratisch und außerparlamentarisch und organisieren uns a
 n "think globally\, act locally".\n\nWarum wir aktiv sind\nWir stellen uns
  den lokalen Folgen von Rassismus\, rechter Gewalt und ausgrenzender Asylp
 olitik - besonders in einem Bundesland\, in dem antirassistische Arbeit dr
 ingend notwendig ist.\n\nWie wir uns organisieren\nWir sind ein Ort langfr
 istiger Selbstorganisation\, solidarischen Austauschs und politischen Lern
 ens.
CATEGORIES:Offenes Treffen
LOCATION:in:takt\, Breiter Weg 32-34\, Magdeburg\, Sachsen-Anhalt\, 39104\,
  Deutschland
GEO:52.135251;11.638806
X-APPLE-STRUCTURED-LOCATION;VALUE=URI;X-ADDRESS=Breiter Weg 32-34\, Magdebu
 rg\, Sachsen-Anhalt\, 39104\, Deutschland;X-APPLE-RADIUS=100;X-TITLE=in:ta
 kt:geo:52.135251,11.638806
END:VEVENT
BEGIN:VTIMEZONE
TZID:Europe/Berlin
X-LIC-LOCATION:Europe/Berlin
BEGIN:DAYLIGHT
DTSTART:20260329T030000
TZOFFSETFROM:+0100
TZOFFSETTO:+0200
TZNAME:CEST
END:DAYLIGHT
END:VTIMEZONE
END:VCALENDAR