BEGIN:VCALENDAR
VERSION:2.0
PRODID:-//wp-events-plugin.com//7.2.3.1//EN
TZID:Europe/Berlin
X-WR-TIMEZONE:Europe/Berlin
BEGIN:VEVENT
UID:712@md-linksdrehend.org
DTSTART;TZID=Europe/Berlin:20260428T193000
DTEND;TZID=Europe/Berlin:20260428T220000
DTSTAMP:20260425T172419Z
URL:https://md-linksdrehend.org/events/krisenbuch-schule-vorstellung-und-d
 iskussion-der-rls-publikation/
SUMMARY:Krisenbuch Schule - Vorstellung und Diskussion der RLS Publikation
DESCRIPTION:Schulen in Deutschland sind am Limit: Lehrkräftemangel herrsch
 t inzwischen in nahezu allen Bundesländern\, über eine wachsende Zahl vo
 n Quer- und Seiteneinsteiger*innen wird versucht\, den Bedarf zu decken. B
 ei Erzieher*innen\, Schulsozialarbeiter*innen und weiteren Professionen si
 eht die Situation nicht besser aus. Und statt mittels multiprofessionellen
  Teams eine gute und zeitgemäße Bildung anzubieten\, werden die neuen Pr
 ofessionen an Schulen häufig als Lückenfüller*innen in einem defizitär
 en System verheizt.\nDas „Krisenbuch Schule“ richtet den Fokus auf die
 jenigen\, die in einem heruntergewirtschafteten System arbeiten und lernen
  (müssen): Lehrer*innen\, Schüler*innen\, Erzieher*innen\, Eltern\, Schu
 lsozialarbeiter*innen und Referendar*innen kommen darin zu Wort.\nDarüber
  hinaus werden Vorstellungen zu einer zeitgemäßen Schule entwickelt und 
 es wird gezeigt\, was politisch notwendig ist und wie sich Beschäftigte g
 egen Überforderung zur Wehr setzen können.\n\nHier die Broschüre: https
 ://www.rosalux.de/publikation/id/53930/krisenbuch-schule
CATEGORIES:Podiumsgespräch,Vortrag
LOCATION:Stadtbibliothek\, Breiter Weg 109\, Magdeburg\, Sachsen-Anhalt\, 3
 9104\, Deutschland
GEO:52.136855;11.638899
X-APPLE-STRUCTURED-LOCATION;VALUE=URI;X-ADDRESS=Breiter Weg 109\, Magdeburg
 \, Sachsen-Anhalt\, 39104\, Deutschland;X-APPLE-RADIUS=100;X-TITLE=Stadtbi
 bliothek:geo:52.136855,11.638899
END:VEVENT
BEGIN:VTIMEZONE
TZID:Europe/Berlin
X-LIC-LOCATION:Europe/Berlin
BEGIN:DAYLIGHT
DTSTART:20260329T030000
TZOFFSETFROM:+0100
TZOFFSETTO:+0200
TZNAME:CEST
END:DAYLIGHT
END:VTIMEZONE
END:VCALENDAR