BEGIN:VCALENDAR
VERSION:2.0
PRODID:-//wp-events-plugin.com//7.2.3.1//EN
TZID:Europe/Berlin
X-WR-TIMEZONE:Europe/Berlin
BEGIN:VEVENT
UID:696@md-linksdrehend.org
DTSTART;TZID=Europe/Berlin:20260423T140000
DTEND;TZID=Europe/Berlin:20260423T150000
DTSTAMP:20260420T190634Z
URL:https://md-linksdrehend.org/events/klare-haltung-gegen-kuerzungen-im-n
 ahverkehr/
SUMMARY:– Klare Haltung gegen Kürzungen im Nahverkehr –
DESCRIPTION:Diesen Donnerstag 14 Uhr: Auf ins Rathaus - alle in den Stadtra
 t! 🔥\n\n– Klare Haltung gegen Kürzungen im Nahverkehr –\nUnsere Zu
 kunft steht auf dem Spiel!\n\n📍 Donnerstag | 23.04. | 14-15 Uhr | Stadt
 rat (Rathaus\, Alter Markt)\nhttps://www.instagram.com/p/DXOhtnQDJ2R/?igsh
 =cHppcjAzaDBiNzdz\n\nDer Prüfbericht für die MVB ist eindeutig: Nicht wi
 r arbeiten ineffizient - unser Problem ist die chronische Unterfinanzierun
 g des ÖPNV.\nSteigende Kosten\, zu wenig Unterstützung durch Bund und L
 änder und fehlende Priorität im Straßenverkehr setzen uns täglich unte
 r Druck.\nDoch wir haben bereits gezeigt: Gemeinsam können wir etwas\nbew
 egen!\nDurch unseren Einsatz wurden bereits Verschlechterungen und erste K
 ürzungen abgewehrt – jetzt müssen wir weiter dranbleiben und bei der\n
 wohl entscheidenden Stadtratssitzung teilnehmen!\n\nUnsere Forderungen:\n
 • Keine Kürzungen – stattdessen mehr Investitionen in Takt und Qualit
 ät\n• Freie Fahrt für Bus und Bahn – Vorrang statt Stillstand im Ver
 kehr\n• Gute Arbeitsbedingungen und starke Mitbestimmung für uns Besch
 äftigte\n\nEin starker Nahverkehr bedeutet verlässliche Mobilität für 
 alle –\nund bessere Arbeitsbedingungen für uns.\n\nJetzt ist die Zeit\,
  laut zu bleiben und Druck zu machen!\nFür unsere Arbeitsplätze. Für un
 sere Fahrgäste. Für die Zukunft des ÖPNV.\n\nKomm darum am Donnerstag\,
  23.04.\, um 14-15 Uhr in den Stadtrat im Rathaus\, damit sie uns in die A
 ugen schauen müssen\, wenn sie über die Zukunft unseres ÖPNV entscheide
 n!\n\n✊ Mach mit – gemeinsam sind wir stark
ATTACH;FMTTYPE=image/jpeg:https://md-linksdrehend.org/wp-content/uploads/2
 026/04/2026-04-23-Stadtrat.avif
LOCATION:Alter Markt\, altes Rathaus Magdeburg\, Magdeburg\, Sachsen-Anhalt
 \, 39104\, Deutschland
GEO:52.131444;11.640075
X-APPLE-STRUCTURED-LOCATION;VALUE=URI;X-ADDRESS=altes Rathaus Magdeburg\, M
 agdeburg\, Sachsen-Anhalt\, 39104\, Deutschland;X-APPLE-RADIUS=100;X-TITLE
 =Alter Markt:geo:52.131444,11.640075
END:VEVENT
BEGIN:VTIMEZONE
TZID:Europe/Berlin
X-LIC-LOCATION:Europe/Berlin
BEGIN:DAYLIGHT
DTSTART:20260329T030000
TZOFFSETFROM:+0100
TZOFFSETTO:+0200
TZNAME:CEST
END:DAYLIGHT
END:VTIMEZONE
END:VCALENDAR