BEGIN:VCALENDAR
VERSION:2.0
PRODID:-//wp-events-plugin.com//7.2.3.1//EN
TZID:Europe/Berlin
X-WR-TIMEZONE:Europe/Berlin
BEGIN:VEVENT
UID:564@md-linksdrehend.org
DTSTART;TZID=Europe/Berlin:20260225T170000
DTEND;TZID=Europe/Berlin:20260225T190000
DTSTAMP:20260215T120257Z
URL:https://md-linksdrehend.org/events/kiezkantine-2/
SUMMARY:Kiezkantine
DESCRIPTION:Kiezkantine im Stadtteilladen Mitmischen. Es gibt Spaghetti Nap
 oli.\n\nGemeinsames Vorbereiten findet ab 15 Uhr statt.
CATEGORIES:Küfa
LOCATION:Stadtteilladen Mitmischen\, Maxim-Gorki-Straße 40\, Magdeburg\, S
 achsen-Anhalt\, 39108\, Deutschland
GEO:52.130984;11.613114
X-APPLE-STRUCTURED-LOCATION;VALUE=URI;X-ADDRESS=Maxim-Gorki-Straße 40\, Ma
 gdeburg\, Sachsen-Anhalt\, 39108\, Deutschland;X-APPLE-RADIUS=100;X-TITLE=
 Stadtteilladen Mitmischen:geo:52.130984,11.613114
END:VEVENT
BEGIN:VTIMEZONE
TZID:Europe/Berlin
X-LIC-LOCATION:Europe/Berlin
BEGIN:STANDARD
DTSTART:20251026T020000
TZOFFSETFROM:+0200
TZOFFSETTO:+0100
TZNAME:CET
END:STANDARD
END:VTIMEZONE
END:VCALENDAR