BEGIN:VCALENDAR
VERSION:2.0
PRODID:-//wp-events-plugin.com//7.2.3.1//EN
TZID:Europe/Berlin
X-WR-TIMEZONE:Europe/Berlin
BEGIN:VEVENT
UID:565@md-linksdrehend.org
DTSTART;TZID=Europe/Berlin:20260216T183000
DTEND;TZID=Europe/Berlin:20260216T203000
DTSTAMP:20260215T120647Z
URL:https://md-linksdrehend.org/events/kiezfrauen-planung-zum-8-maerz/
SUMMARY:Kiezfrauen - Planung zum 8. März
DESCRIPTION:Die Kiezfrauen treffen sich zur gemeinsamen Planung zum 8. Mär
 z
CATEGORIES:Offenes Treffen
LOCATION:Stadtteilladen Mitmischen\, Maxim-Gorki-Straße 40\, Magdeburg\, S
 achsen-Anhalt\, 39108\, Deutschland
GEO:52.130984;11.613114
X-APPLE-STRUCTURED-LOCATION;VALUE=URI;X-ADDRESS=Maxim-Gorki-Straße 40\, Ma
 gdeburg\, Sachsen-Anhalt\, 39108\, Deutschland;X-APPLE-RADIUS=100;X-TITLE=
 Stadtteilladen Mitmischen:geo:52.130984,11.613114
END:VEVENT
BEGIN:VTIMEZONE
TZID:Europe/Berlin
X-LIC-LOCATION:Europe/Berlin
BEGIN:STANDARD
DTSTART:20251026T020000
TZOFFSETFROM:+0200
TZOFFSETTO:+0100
TZNAME:CET
END:STANDARD
END:VTIMEZONE
END:VCALENDAR