BEGIN:VCALENDAR
VERSION:2.0
PRODID:-//wp-events-plugin.com//7.2.3.1//EN
TZID:Europe/Berlin
X-WR-TIMEZONE:Europe/Berlin
BEGIN:VEVENT
UID:699@md-linksdrehend.org
DTSTART;TZID=Europe/Berlin:20260501T100000
DTEND;TZID=Europe/Berlin:20260501T150000
DTSTAMP:20260421T143444Z
URL:https://md-linksdrehend.org/events/erster-mai-demonstration-der-fau-ma
 gdeburg-klasse-kampf-kultur/
SUMMARY:Erster Mai Demonstration der FAU Magdeburg - Klasse. Kampf. Kultur.
DESCRIPTION:Auch in diesem Jahr gehen wir\, die Freie Arbeiter:innen-Union\
 , gemeinsam mit Kolleg:innen zum 1. Mai auf die Straße! Dieser Tag ist Te
 il unserer Tradition: Wir feiern die Errungenschaften der Vergangenheit\, 
 stehen ein für unsere Klasse und zeigen klar: Wir lassen uns nicht spalte
 n – weder durch Kriegspolitik\, Sozialstaatsabbau noch durch ideologisch
 e Kulturkämpfe seitens des Kapitals.\n\nDer vollständige Aufruf findet i
 hr hier:\n\nhttps://magdeburg.fau.org/1-mai-demonstration-der-fau-magdebur
 g-2026/\n\nGerne Liken und Teilen:\n\nhttps://www.instagram.com/p/DXCYSJdD
 C4R\nhttps://bsky.app/profile/faumagdeburg.bsky.social/post/3mjcpf2zinc2e
ATTACH;FMTTYPE=image/jpeg:https://md-linksdrehend.org/wp-content/uploads/2
 026/04/2026-05-01-mai-scaled.avif
CATEGORIES:Demo, Kundgebung
LOCATION:Thiemplatz\, Thiemplatz\, Magdeburg\, Sachsen-Anhalt\, 39104\, Deu
 tschland
GEO:52.106535;11.640179
X-APPLE-STRUCTURED-LOCATION;VALUE=URI;X-ADDRESS=Thiemplatz\, Magdeburg\, Sa
 chsen-Anhalt\, 39104\, Deutschland;X-APPLE-RADIUS=100;X-TITLE=Thiemplatz:g
 eo:52.106535,11.640179
END:VEVENT
BEGIN:VTIMEZONE
TZID:Europe/Berlin
X-LIC-LOCATION:Europe/Berlin
BEGIN:DAYLIGHT
DTSTART:20260329T030000
TZOFFSETFROM:+0100
TZOFFSETTO:+0200
TZNAME:CEST
END:DAYLIGHT
END:VTIMEZONE
END:VCALENDAR