BEGIN:VCALENDAR
VERSION:2.0
PRODID:-//wp-events-plugin.com//7.2.3.1//EN
TZID:Europe/Berlin
X-WR-TIMEZONE:Europe/Berlin
BEGIN:VEVENT
UID:711@md-linksdrehend.org
DTSTART;TZID=Europe/Berlin:20260427T160000
DTEND;TZID=Europe/Berlin:20260427T190000
DTSTAMP:20260425T170218Z
URL:https://md-linksdrehend.org/events/einsingen-zum-1-mai/
SUMMARY:Einsingen zum 1. Mai
DESCRIPTION:Liebe GenossInnen\, wir wollen auf unserem 1. Mai nicht nur Red
 en halten und Parolen schwingen sondern auch Protest bzw Arbeiterlieder si
 ngen. Um uns vorher ein bisschen mit den Liedern bekannt zu machen\, werde
 n wir unter Anleitung gemeinsam ein paar Arbeiterlieder trainieren.\n\nDaz
 u treffen wir uns am 27.04.26 ab 16:00 Uhr im Stadtteilladen\, Maxim-Gorki
 -Straße 40. Kommt gerne vorbei\, damit wir am 1. Mai gemeinsam Lieder ans
 timmen und den Ton angeben können. Falls ihr erst später könnt\, kommt 
 gerne im laufenden Betrieb dazu. Es ist besser man kann ein paar Lieder mi
 tsingen als gar keine. Wir werden vorraussichtlich bis 19:00 im Stadtteill
 aden bleiben.⁩
ATTACH;FMTTYPE=image/jpeg:https://md-linksdrehend.org/wp-content/uploads/2
 026/04/2026-04-Einsingen.avif
CATEGORIES:Konzert,Offenes Treffen
LOCATION:Stadtteilladen Mitmischen\, Maxim-Gorki-Straße 40\, Magdeburg\, S
 achsen-Anhalt\, 39108\, Deutschland
GEO:52.130984;11.613114
X-APPLE-STRUCTURED-LOCATION;VALUE=URI;X-ADDRESS=Maxim-Gorki-Straße 40\, Ma
 gdeburg\, Sachsen-Anhalt\, 39108\, Deutschland;X-APPLE-RADIUS=100;X-TITLE=
 Stadtteilladen Mitmischen:geo:52.130984,11.613114
END:VEVENT
BEGIN:VTIMEZONE
TZID:Europe/Berlin
X-LIC-LOCATION:Europe/Berlin
BEGIN:DAYLIGHT
DTSTART:20260329T030000
TZOFFSETFROM:+0100
TZOFFSETTO:+0200
TZNAME:CEST
END:DAYLIGHT
END:VTIMEZONE
END:VCALENDAR