BEGIN:VCALENDAR
VERSION:2.0
PRODID:-//wp-events-plugin.com//7.2.3.1//EN
TZID:Europe/Berlin
X-WR-TIMEZONE:Europe/Berlin
BEGIN:VEVENT
UID:714@md-linksdrehend.org
DTSTART;TZID=Europe/Berlin:20260823T120000
DTEND;TZID=Europe/Berlin:20260823T233000
DTSTAMP:20260425T182713Z
URL:https://md-linksdrehend.org/events/csd-demonstration-in-magdeburg/
SUMMARY:CSD Demonstration in Magdeburg
DESCRIPTION:Politisches Stadtfest auf dem Marktplatz\nNie wieder still – 
 die Regenbogenflagge bleibt!\n\nhttps://csdmagdeburg.de/event/?id=2689\n\n
 &nbsp\;
ATTACH;FMTTYPE=image/jpeg:https://md-linksdrehend.org/wp-content/uploads/2
 026/04/2026-08-CSD-MD.avif
CATEGORIES:Demo, Kundgebung,Festival
LOCATION:Alter Markt\, altes Rathaus Magdeburg\, Magdeburg\, Sachsen-Anhalt
 \, 39104\, Deutschland
GEO:52.131444;11.640075
X-APPLE-STRUCTURED-LOCATION;VALUE=URI;X-ADDRESS=altes Rathaus Magdeburg\, M
 agdeburg\, Sachsen-Anhalt\, 39104\, Deutschland;X-APPLE-RADIUS=100;X-TITLE
 =Alter Markt:geo:52.131444,11.640075
END:VEVENT
BEGIN:VTIMEZONE
TZID:Europe/Berlin
X-LIC-LOCATION:Europe/Berlin
BEGIN:DAYLIGHT
DTSTART:20260329T030000
TZOFFSETFROM:+0100
TZOFFSETTO:+0200
TZNAME:CEST
END:DAYLIGHT
END:VTIMEZONE
END:VCALENDAR