BEGIN:VCALENDAR
VERSION:2.0
PRODID:-//wp-events-plugin.com//7.2.3.1//EN
TZID:Europe/Berlin
X-WR-TIMEZONE:Europe/Berlin
BEGIN:VEVENT
UID:700@md-linksdrehend.org
DTSTART;TZID=Europe/Berlin:20260424T190000
DTEND;TZID=Europe/Berlin:20261127T210000
DTSTAMP:20260422T150822Z
URL:https://md-linksdrehend.org/events/critical-mass/
SUMMARY:Critical Mass
DESCRIPTION:WIR BLOCKIEREN NICHT DEN VERKEHR – WIR SIND DER VERKEHR!\n\nS
 chnappt euch euren Drahtesel und lasst uns die Straße Stück für Stück 
 zurückerobern.\n\nCritical-Mass unter diesem Motto findet jeden Monat wel
 tweit die #CRITICALMASS statt. So jeden letzten Freitag im Monat natürlic
 h auch in #MAGDEBURG !\n\nDies ist keine Veranstaltung mit einem Veranstal
 ter! Jeder fährt auf eigenes Risiko! Diese Mitteilung hier dient einzig d
 er Terminerinnerung.\n\n19:oo Uhr Treff\n19:15 Uhr Abfahrt\nTreffpunkt: El
 bbalkon – Weltzeituhr (zwischen Hubbrücke und Domfelsen)\ndies ist nur 
 eine info das an dem Tag die Ausfahrt Weltweit ist !!!\n\nDie Critical Mas
 s ist eine gemeinsame Ausfahrt ab 16 Teilnehmern die einen Fahrradverband 
 nach §27 StVO bilden und sich ausdrücklich an §1 StVO hält.\n\nDie Cri
 tical Mass Magdeburg ist keine Demonstration und will auch nicht als solch
 e gesehen werden. Verzichtet also auf das Mitbringen von Transparenten und
  andere Dinge mit Democharakter. Die Critical Mass Magdeburg hat nur Teiln
 ehmer und keinen Veranstalter.\n\nDie Route bestimmt sich während der Fah
 rt durch die Fahrer die an der Spitze fahren. Der Startpunkt ist gleichzei
 tig immer auch das Ziel.\n\nBleibt kompakt ZUSAMMEN damit der Ride gut ver
 läuft.\nDie Masse fährt angemessenes Tempo durch die Straßen und lässt
  keine Lücken entstehen. Die Critical Mass gilt als Verband und damit als
  ein Fahrzeug aber nur so lange wie der Verband geschlossen bleibt.\n\nWer
  an der Spitze fährt hält an roten Ampeln. Wenn die vorderen Fahrer bei 
 grün über eine Ampel gefahren sind\, darf der Rest der #Criticalmass auc
 h dann folgen\, wenn die Ampel inzwischen auf rot geschaltet hat\, weil si
 e ein Verband ist und damit als ein Fahrzeug nach § 27 Abs. 1 StVO gilt.\
 n\nCorkt den Verkehr an Quer und Seitenstrassen um uns und vorallem Autofa
 hrer vor sich selbst zu schützen! „Corken ist das Absperren des Querver
 kehrs\, damit Kraftfahrzeuge beim Umschalten der Ampel oder nach längerer
  Wartezeit an einer nicht-ampelgeregelten Kreuzung nicht plötzlich in die
  Masse hineinfahren.“ Dazu baut man sich einfach mit dem Rad vor den Fah
 rzeugen auf. Häufig bietet es sich an\, freundlich den Autofahrern zu erk
 lären\, was gerade passiert und wie lange es ungefähr noch dauern wird. 
 Auch wenn mancher Autofahrer gereizt ist\, gilt hier die Devise: Nicht pro
 vozieren lassen\, freundlich bleiben!\n\nBehindert keine Rettungsfahrzeuge
 \, schafft im Notfall Platz!\n\nFahrt nicht in den Gegenverkehr\, behinder
 t nicht den Verkehr und benutzt nur eine Fahrspur\, fahrt nicht auf Fußwe
 ge\, benutzt keine Glasflaschen.\n\nDie Critical Mass bewegt sich im Stra
 ßenverkehr und ist Teil des Straßenverkehrs. Alkoholische Getränke und 
 Teilnahme am Straßenverkehr auf einem Fahrzeug oder der Fahrbahn vertrage
 n sich grundsätzlich nicht. Wer sich alkoholisiert durch den Straßenverk
 ehr bewegt\, gefährdet nicht nur sich\, sondern auch andere.\n\nDie Masse
  rollt entspannt\, friedlich und bunt.\n\nHandelt verantwortungsvoll!\n\nD
 as Bike-Up (Gruppenfoto) wird während der Ausfahrt spontan angesagt. Aus 
 Liebe zur Mass\, Freude am Radeln und die gelungene Tour heben die Teilneh
 mer einer #Criticalmass am Ende oder an einem bestimmten Ort während der 
 Tour\, traditionell als Gruß an die internationale Gemeinschaft\, ihre Fa
 hrräder kopfüber in die Höhe.\n\nEs gibt immer wieder Teilnehmer die si
 ch die Mühe machen Aufkleber drucken zu lassen oder ähnliches. Einfach v
 or oder nach der Tour durchfragen.\n\nSEI DABEI &amp\; BRINGE VIELE FREUND
 E MIT!!!\n\nZEIGT\, DASS ES EUCH GIBT!\n\nBis dahin\, wir sehen uns.\n\nht
 tps://criticalmass.in/magdeburg\n\n#WIRSINDDERVERKEHR #RADFAHREN #RAD #FAH
 RRAD #BIKE #WEARETRAFFIC #RECLAIMTHESTREETS #CM #CMMD #RIDEYOURBIKE #BIKES
 VSCARS #RIDESAFE #SHARETHEROAD
ATTACH;FMTTYPE=image/jpeg:https://md-linksdrehend.org/wp-content/uploads/2
 026/04/CMLogo.avif
CATEGORIES:Sport
LOCATION:Elbbalkon\, Elbbalkon\, Magdeburg\, Sachsen-Anhalt\, 39104\, Magde
 burg\, Landeshauptstadt\, Deutschland
GEO:52.120627;11.635337
X-APPLE-STRUCTURED-LOCATION;VALUE=URI;X-ADDRESS=Elbbalkon\, Magdeburg\, Sac
 hsen-Anhalt\, 39104\, Magdeburg\, Landeshauptstadt\, Deutschland;X-APPLE-R
 ADIUS=100;X-TITLE=Elbbalkon:geo:52.120627,11.635337
END:VEVENT
BEGIN:VTIMEZONE
TZID:Europe/Berlin
X-LIC-LOCATION:Europe/Berlin
BEGIN:DAYLIGHT
DTSTART:20260329T030000
TZOFFSETFROM:+0100
TZOFFSETTO:+0200
TZNAME:CEST
END:DAYLIGHT
BEGIN:STANDARD
DTSTART:20261025T020000
TZOFFSETFROM:+0200
TZOFFSETTO:+0100
TZNAME:CET
END:STANDARD
END:VTIMEZONE
END:VCALENDAR