BEGIN:VCALENDAR
VERSION:2.0
PRODID:-//wp-events-plugin.com//7.2.3.1//EN
TZID:Europe/Berlin
X-WR-TIMEZONE:Europe/Berlin
BEGIN:VEVENT
UID:710@md-linksdrehend.org
DTSTART;TZID=Europe/Berlin:20260508T150000
DTEND;TZID=Europe/Berlin:20260508T180000
DTSTAMP:20260424T113222Z
URL:https://md-linksdrehend.org/events/community-cafe/
SUMMARY:Community Café
DESCRIPTION:English Version below\n\n☕️🥧 Herzliche Einladung zum Com
 munity-Café 🥧☕️\n\nKomm am Freitag\, den 8.5.\, von 15-18 Uhr ins 
 in:takt (Breiter Weg 32-34) und genieße dabei ein Stück Kuchen mit einem
  schönen Kaffee oder Tee auf Spendenbasis.\nDabei hast du\, wenn du das m
 öchtest\, die Möglichkeit\, mit Menschen in Kontakt zu kommen\, dich aus
 zutauschen oder zu vernetzen.\n\nLeite die Einladung gerne an Freund:innen
  und Interessierte weiter!\n\nWir freuen uns auf dich! 🤗\n\n———
 ———English Version—————\n\n☕️🥧 Warm Invitation to o
 ur Community Café 🥧☕️\n\nCome to in:takt (Breiter Weg 32-34) on Fr
 iday\, May 8\, from 3–6 p.m.\nand enjoy a slice of cake with a nice cup 
 of coffee or tea—pay what you can.\nIf you’d like\, you’ll have the 
 chance to meet new people\, chat\, or network.\n\nPlease share this invite
  with your friends!\n\nWe are looking forward to seeing you! 🤗\n\n&nbsp
 \;
ATTACH;FMTTYPE=image/jpeg:https://md-linksdrehend.org/wp-content/uploads/2
 026/04/Begegnungs-Cafe.avif
LOCATION:in:takt\, Breiter Weg 32-34\, Magdeburg\, Sachsen-Anhalt\, 39104\,
  Deutschland
GEO:52.135251;11.638806
X-APPLE-STRUCTURED-LOCATION;VALUE=URI;X-ADDRESS=Breiter Weg 32-34\, Magdebu
 rg\, Sachsen-Anhalt\, 39104\, Deutschland;X-APPLE-RADIUS=100;X-TITLE=in:ta
 kt:geo:52.135251,11.638806
END:VEVENT
BEGIN:VTIMEZONE
TZID:Europe/Berlin
X-LIC-LOCATION:Europe/Berlin
BEGIN:DAYLIGHT
DTSTART:20260329T030000
TZOFFSETFROM:+0100
TZOFFSETTO:+0200
TZNAME:CEST
END:DAYLIGHT
END:VTIMEZONE
END:VCALENDAR