BEGIN:VCALENDAR
VERSION:2.0
PRODID:-//wp-events-plugin.com//7.2.3.1//EN
TZID:Europe/Berlin
X-WR-TIMEZONE:Europe/Berlin
BEGIN:VEVENT
UID:50@md-linksdrehend.org
DTSTART;TZID=Europe/Berlin:20260109T180000
DTEND;TZID=Europe/Berlin:20260424T200000
DTSTAMP:20260119T000802Z
URL:https://md-linksdrehend.org/events/buckauer-kuefa-kueche-fuer-alle-%c2
 %b7-kitchen-for-all/
SUMMARY:Buckauer Küfa — Küche für alle · Kitchen for all
DESCRIPTION:Liebe Menschen\,\n\nin den Wintermonaten findet die Buckauer K
 üfa* jeden Freitag um 18 Uhr im Café vom kollekTHIEM (Thiemstr. 13) stat
 t.\n\nEs gibt wie immer selbstgekochtes\, leckeres veganes Essen auf Spend
 enbasis🌱🍲.\n\nKüfa bedeutet für uns: gemeinsam kochen\, sich die A
 rbeit teilen und dadurch mehr Zeit füreinander im Stadtteil zu haben.\n\n
 Damit das gut funktioniert\, freuen wir uns immer über Support – beim E
 inkaufen\, Kochen\, Schnippeln\, Abwaschen oder beim Auf- und Abbauen. Wen
 n ihr Lust habt mitzumachen\, meldet euch gern per Instagram oder E-Mail (
 info@kollekthiem.de) 💛.\n\nWir freuen uns auf euch✨!\n\n* Die Buckaue
 r Küfa ist ein gemeinsames Angebot der Hausprojekte KlinkA und kollekTHIE
 M.\n\n—\n\nDear people\,\n\nduring the winter months\, the Buckau Küfa*
  takes place every Friday at 6 PM at the kollekTHIEM café (Thiemstr. 13).
 \n\nWe serve delicious\, homemade vegan food on a donation basis🌱🍲.\
 n\nFor us\, Küfa means cooking together\, sharing the work\, and creating
  more time and space for each other in the neighborhood. To make it all ha
 ppen\, we’re always happy about support — whether with shopping\, cook
 ing\, chopping\, washing up\, or helping set up and clean up.\n\nIf you’
 d like to get involved\, feel free to reach out via Instagram or email (in
 fo@kollekthiem.de) 💛.\n\nWe’re looking forward to seeing you✨!\n\n*
  The Buckauer Küfa is a joint project by the housing collectives KlinkA a
 nd kollekTHIEM.
ATTACH;FMTTYPE=image/jpeg:https://md-linksdrehend.org/wp-content/uploads/2
 026/01/Kuefa-Buckau.avif
CATEGORIES:Kinderfreundlich,Küfa
LOCATION:kollekTHIEM\, Thiemstraße 13\, Magdeburg\, Sachsen-Anhalt\, 39104
 \, Deutschland
GEO:52.10614;11.638343
X-APPLE-STRUCTURED-LOCATION;VALUE=URI;X-ADDRESS=Thiemstraße 13\, Magdeburg
 \, Sachsen-Anhalt\, 39104\, Deutschland;X-APPLE-RADIUS=100;X-TITLE=kollekT
 HIEM:geo:52.10614,11.638343
END:VEVENT
BEGIN:VTIMEZONE
TZID:Europe/Berlin
X-LIC-LOCATION:Europe/Berlin
BEGIN:STANDARD
DTSTART:20251026T020000
TZOFFSETFROM:+0200
TZOFFSETTO:+0100
TZNAME:CET
END:STANDARD
BEGIN:DAYLIGHT
DTSTART:20260329T030000
TZOFFSETFROM:+0100
TZOFFSETTO:+0200
TZNAME:CEST
END:DAYLIGHT
END:VTIMEZONE
END:VCALENDAR